BEGIN:VCALENDAR
VERSION:2.0
CALSCALE:GREGORIAN
PRODID:-//Diputació de Barcelona//DibaCMS//EN
BEGIN:VEVENT
UID:4905
DTSTAMP:20260421T200538
DTSTART:20100226T180000
DTEND:20100226T000000
SUMMARY:Premi Atrapallibres 2009. Reunió sobre L'Enemic
LOCATION:
METHOD:PUBLISH
X-WR-CALNAME:caldesm@caldesdemontbui.cat
X-WR-TIMEZONE:Europe/Madrid
DESCRIPTION:
URI:https://www.caldesdemontbui.cat/actualitat/agenda/premi-atrapallibres-2009-reunio-sobre-lenemic.html
CLASS:PUBLIC
END:VEVENT
END:VCALENDAR
