BEGIN:VCALENDAR
VERSION:2.0
CALSCALE:GREGORIAN
PRODID:-//Diputació de Barcelona//DibaCMS//EN
BEGIN:VEVENT
UID:4903
DTSTAMP:20260421T212828
DTSTART:20100225T190000
DTEND:20100225T000000
SUMMARY:Club de lectura: Xerrada sobre l'obra de José Saramago
LOCATION:
METHOD:PUBLISH
X-WR-CALNAME:caldesm@caldesdemontbui.cat
X-WR-TIMEZONE:Europe/Madrid
DESCRIPTION:
URI:https://www.caldesdemontbui.cat/actualitat/agenda/club-de-lectura-xerrada-sobre-lobra-de-jose-saramago.html
CLASS:PUBLIC
END:VEVENT
END:VCALENDAR
