BEGIN:VCALENDAR
VERSION:2.0
CALSCALE:GREGORIAN
PRODID:-//Diputació de Barcelona//DibaCMS//EN
BEGIN:VEVENT
UID:4902
DTSTAMP:20260422T022102
DTSTART:20100225T180000
DTEND:20100225T000000
SUMMARY:Premi Atrapallibres 2009. Reunió sobre Màgia d'una nit d'estiu i Violet Park
LOCATION:
METHOD:PUBLISH
X-WR-CALNAME:caldesm@caldesdemontbui.cat
X-WR-TIMEZONE:Europe/Madrid
DESCRIPTION:
URI:https://www.caldesdemontbui.cat/actualitat/agenda/premi-atrapallibres-2009-reunio-sobre-magia-duna-nit-destiu-i-violet-park.html
CLASS:PUBLIC
END:VEVENT
END:VCALENDAR
