BEGIN:VCALENDAR
VERSION:2.0
CALSCALE:GREGORIAN
PRODID:-//Diputació de Barcelona//DibaCMS//EN
BEGIN:VEVENT
UID:4901
DTSTAMP:20260422T022145
DTSTART:20100224T180000
DTEND:20100224T000000
SUMMARY:Premi Atrapallibres 2009. Reunió sobre Els secrets de Faith Green
LOCATION:
METHOD:PUBLISH
X-WR-CALNAME:caldesm@caldesdemontbui.cat
X-WR-TIMEZONE:Europe/Madrid
DESCRIPTION:
URI:https://www.caldesdemontbui.cat/actualitat/agenda/premi-atrapallibres-2009-reunio-sobre-els-secrets-de-faith-green.html
CLASS:PUBLIC
END:VEVENT
END:VCALENDAR
