BEGIN:VCALENDAR
VERSION:2.0
CALSCALE:GREGORIAN
PRODID:-//Diputació de Barcelona//DibaCMS//EN
BEGIN:VEVENT
UID:4899
DTSTAMP:20260422T001918
DTSTART:20100223T200000
DTEND:20100223T000000
SUMMARY:Conferència "De la democràcia tutelada al dret a decidir", a càrrec de Josep M. Solé i Sabaté
LOCATION:
METHOD:PUBLISH
X-WR-CALNAME:caldesm@caldesdemontbui.cat
X-WR-TIMEZONE:Europe/Madrid
DESCRIPTION:
URI:https://www.caldesdemontbui.cat/actualitat/agenda/conferencia-de-la-democracia-tutelada-al-dret-a-decidir-a-carrec-de-josep-m-sole-i-sabate.html
CLASS:PUBLIC
END:VEVENT
END:VCALENDAR
