BEGIN:VCALENDAR
VERSION:2.0
CALSCALE:GREGORIAN
PRODID:-//Diputació de Barcelona//DibaCMS//EN
BEGIN:VEVENT
UID:4898
DTSTAMP:20260421T200527
DTSTART:20100223T090000
DTEND:20100223T000000
SUMMARY:Punt mòbil d'informació sobre la TDT
LOCATION:
METHOD:PUBLISH
X-WR-CALNAME:caldesm@caldesdemontbui.cat
X-WR-TIMEZONE:Europe/Madrid
DESCRIPTION:
URI:https://www.caldesdemontbui.cat/actualitat/agenda/punt-mobil-dinformacio-sobre-la-tdt.html
CLASS:PUBLIC
END:VEVENT
END:VCALENDAR
