BEGIN:VCALENDAR
VERSION:2.0
CALSCALE:GREGORIAN
PRODID:-//Diputació de Barcelona//DibaCMS//EN
BEGIN:VEVENT
UID:4897
DTSTAMP:20260421T215351
DTSTART:20100222T180000
DTEND:20100222T000000
SUMMARY:Premi Atrapallibres 2009. Reunió sobre El príncep dels embolics i el Circ
LOCATION:
METHOD:PUBLISH
X-WR-CALNAME:caldesm@caldesdemontbui.cat
X-WR-TIMEZONE:Europe/Madrid
DESCRIPTION:
URI:https://www.caldesdemontbui.cat/actualitat/agenda/premi-atrapallibres-2009-reunio-sobre-el-princep-dels-embolics-i-el-circ.html
CLASS:PUBLIC
END:VEVENT
END:VCALENDAR
