BEGIN:VCALENDAR
VERSION:2.0
CALSCALE:GREGORIAN
PRODID:-//Diputació de Barcelona//DibaCMS//EN
BEGIN:VEVENT
UID:4893
DTSTAMP:20260422T011736
DTSTART:20100221T000000
DTEND:20100221T000000
SUMMARY:Guardioles per Haití: A la calçotada de l'Agrupació Escoltes El Pasqualet
LOCATION:
METHOD:PUBLISH
X-WR-CALNAME:caldesm@caldesdemontbui.cat
X-WR-TIMEZONE:Europe/Madrid
DESCRIPTION:
URI:https://www.caldesdemontbui.cat/actualitat/agenda/guardioles-per-haiti-a-la-calcotada-de-lagrupacio-escoltes-el-pasqualet.html
CLASS:PUBLIC
END:VEVENT
END:VCALENDAR
