BEGIN:VCALENDAR
VERSION:2.0
CALSCALE:GREGORIAN
PRODID:-//Diputació de Barcelona//DibaCMS//EN
BEGIN:VEVENT
UID:4890
DTSTAMP:20260421T215033
DTSTART:20100218T193000
DTEND:20100218T000000
SUMMARY:Cinefòrum. Google: tras la pantalla
LOCATION:
METHOD:PUBLISH
X-WR-CALNAME:caldesm@caldesdemontbui.cat
X-WR-TIMEZONE:Europe/Madrid
DESCRIPTION:
URI:https://www.caldesdemontbui.cat/actualitat/agenda/cineforum-google-tras-la-pantalla.html
CLASS:PUBLIC
END:VEVENT
END:VCALENDAR
