BEGIN:VCALENDAR
VERSION:2.0
CALSCALE:GREGORIAN
PRODID:-//Diputació de Barcelona//DibaCMS//EN
BEGIN:VEVENT
UID:4882
DTSTAMP:20260421T224148
DTSTART:20100211T200000
DTEND:20100211T000000
SUMMARY:Presentació del llibre El código del dinero, de Raimon Samsó
LOCATION:
METHOD:PUBLISH
X-WR-CALNAME:caldesm@caldesdemontbui.cat
X-WR-TIMEZONE:Europe/Madrid
DESCRIPTION:
URI:https://www.caldesdemontbui.cat/actualitat/agenda/presentacio-del-llibre-el-codigo-del-dinero-de-raimon-samso.html
CLASS:PUBLIC
END:VEVENT
END:VCALENDAR
