BEGIN:VCALENDAR
VERSION:2.0
CALSCALE:GREGORIAN
PRODID:-//Diputació de Barcelona//DibaCMS//EN
BEGIN:VEVENT
UID:4881
DTSTAMP:20260421T195745
DTSTART:20100208T180000
DTEND:20100212T000000
SUMMARY:Audicions dels alumnes de l'Escola de Música Joan valls
LOCATION:
METHOD:PUBLISH
X-WR-CALNAME:caldesm@caldesdemontbui.cat
X-WR-TIMEZONE:Europe/Madrid
DESCRIPTION:
URI:https://www.caldesdemontbui.cat/actualitat/agenda/audicions-dels-alumnes-de-lescola-de-msica-joan-valls.html
CLASS:PUBLIC
END:VEVENT
END:VCALENDAR
