BEGIN:VCALENDAR
VERSION:2.0
CALSCALE:GREGORIAN
PRODID:-//Diputació de Barcelona//DibaCMS//EN
BEGIN:VEVENT
UID:4880
DTSTAMP:20260421T232552
DTSTART:20100207T180000
DTEND:20100207T000000
SUMMARY:TACA'M "La reina de la bellesa de Leenane"
LOCATION:
METHOD:PUBLISH
X-WR-CALNAME:caldesm@caldesdemontbui.cat
X-WR-TIMEZONE:Europe/Madrid
DESCRIPTION:
URI:https://www.caldesdemontbui.cat/actualitat/agenda/tacam-la-reina-de-la-bellesa-de-leenane.html
CLASS:PUBLIC
END:VEVENT
END:VCALENDAR
