BEGIN:VCALENDAR
VERSION:2.0
CALSCALE:GREGORIAN
PRODID:-//Diputació de Barcelona//DibaCMS//EN
BEGIN:VEVENT
UID:4878
DTSTAMP:20260421T204138
DTSTART:20100206T183000
DTEND:20100206T000000
SUMMARY:Concert improvisat a càrrec d'Emilio Molina
LOCATION:
METHOD:PUBLISH
X-WR-CALNAME:caldesm@caldesdemontbui.cat
X-WR-TIMEZONE:Europe/Madrid
DESCRIPTION:
URI:https://www.caldesdemontbui.cat/actualitat/agenda/concert-improvisat-a-carrec-demilio-molina.html
CLASS:PUBLIC
END:VEVENT
END:VCALENDAR
