BEGIN:VCALENDAR
VERSION:2.0
CALSCALE:GREGORIAN
PRODID:-//Diputació de Barcelona//DibaCMS//EN
BEGIN:VEVENT
UID:4877
DTSTAMP:20260421T195714
DTSTART:20100206T180000
DTEND:20100206T000000
SUMMARY:Guardioles per Haití. Al concert benèfic de l'Orquestra Salvador Ribas de Barcelona
LOCATION:
METHOD:PUBLISH
X-WR-CALNAME:caldesm@caldesdemontbui.cat
X-WR-TIMEZONE:Europe/Madrid
DESCRIPTION:
URI:https://www.caldesdemontbui.cat/actualitat/agenda/guardioles-per-haiti-al-concert-benefic-de-lorquestra-salvador-ribas-de-barcelona.html
CLASS:PUBLIC
END:VEVENT
END:VCALENDAR
