BEGIN:VCALENDAR
VERSION:2.0
CALSCALE:GREGORIAN
PRODID:-//Diputació de Barcelona//DibaCMS//EN
BEGIN:VEVENT
UID:4875
DTSTAMP:20260422T022033
DTSTART:20100206T110000
DTEND:20100206T000000
SUMMARY:Inauguració del nou centre de dia especialitzat en demències de la Residència Santa Susanna
LOCATION:
METHOD:PUBLISH
X-WR-CALNAME:caldesm@caldesdemontbui.cat
X-WR-TIMEZONE:Europe/Madrid
DESCRIPTION:
URI:https://www.caldesdemontbui.cat/actualitat/agenda/inauguracio-del-nou-centre-de-dia-especialitzat-en-demencies-de-la-residencia-santa-susanna.html
CLASS:PUBLIC
END:VEVENT
END:VCALENDAR
