BEGIN:VCALENDAR
VERSION:2.0
CALSCALE:GREGORIAN
PRODID:-//Diputació de Barcelona//DibaCMS//EN
BEGIN:VEVENT
UID:4874
DTSTAMP:20260421T205133
DTSTART:20100202T193000
DTEND:20100202T000000
SUMMARY:Visita guiada gratuïta a l'exposició "Arranz-Bravo, recorregut per la passió"
LOCATION:
METHOD:PUBLISH
X-WR-CALNAME:caldesm@caldesdemontbui.cat
X-WR-TIMEZONE:Europe/Madrid
DESCRIPTION:
URI:https://www.caldesdemontbui.cat/actualitat/agenda/visita-guiada-gratuita-a-lexposicio-arranz-bravo-recorregut-per-la-passio.html
CLASS:PUBLIC
END:VEVENT
END:VCALENDAR
