BEGIN:VCALENDAR
VERSION:2.0
CALSCALE:GREGORIAN
PRODID:-//Diputació de Barcelona//DibaCMS//EN
BEGIN:VEVENT
UID:4873
DTSTAMP:20260421T205524
DTSTART:20100202T000000
DTEND:20100225T000000
SUMMARY:Exposició sobre la feina feta per la Xarxa Territorial d'Educació Infantil de Catalunya 
LOCATION:
METHOD:PUBLISH
X-WR-CALNAME:caldesm@caldesdemontbui.cat
X-WR-TIMEZONE:Europe/Madrid
DESCRIPTION:
URI:https://www.caldesdemontbui.cat/actualitat/agenda/exposicio-sobre-la-feina-feta-per-la-xarxa-territorial-deducacio-infantil-de-catalunya-.html
CLASS:PUBLIC
END:VEVENT
END:VCALENDAR
