BEGIN:VCALENDAR
VERSION:2.0
CALSCALE:GREGORIAN
PRODID:-//Diputació de Barcelona//DibaCMS//EN
BEGIN:VEVENT
UID:4872
DTSTAMP:20260421T204108
DTSTART:20100201T193000
DTEND:20100201T000000
SUMMARY:Recompte de vots del concurs per a l'escultura de la font de la pl. de l'Església
LOCATION:
METHOD:PUBLISH
X-WR-CALNAME:caldesm@caldesdemontbui.cat
X-WR-TIMEZONE:Europe/Madrid
DESCRIPTION:
URI:https://www.caldesdemontbui.cat/actualitat/agenda/recompte-de-vots-del-concurs-per-a-lescultura-de-la-font-de-la-pl-de-lesglesia.html
CLASS:PUBLIC
END:VEVENT
END:VCALENDAR
