BEGIN:VCALENDAR
VERSION:2.0
CALSCALE:GREGORIAN
PRODID:-//Diputació de Barcelona//DibaCMS//EN
BEGIN:VEVENT
UID:4870
DTSTAMP:20260421T195929
DTSTART:20100131T000000
DTEND:20100131T000000
SUMMARY:15a Etapa del Camí de Ronda
LOCATION:
METHOD:PUBLISH
X-WR-CALNAME:caldesm@caldesdemontbui.cat
X-WR-TIMEZONE:Europe/Madrid
DESCRIPTION:
URI:https://www.caldesdemontbui.cat/actualitat/agenda/15a-etapa-del-cami-de-ronda.html
CLASS:PUBLIC
END:VEVENT
END:VCALENDAR
