BEGIN:VCALENDAR
VERSION:2.0
CALSCALE:GREGORIAN
PRODID:-//Diputació de Barcelona//DibaCMS//EN
BEGIN:VEVENT
UID:4867
DTSTAMP:20260421T200015
DTSTART:20100128T193000
DTEND:20100128T000000
SUMMARY:Presentació del nou sistema operatiu UBUNTU 9.10
LOCATION:
METHOD:PUBLISH
X-WR-CALNAME:caldesm@caldesdemontbui.cat
X-WR-TIMEZONE:Europe/Madrid
DESCRIPTION:
URI:https://www.caldesdemontbui.cat/actualitat/agenda/presentacio-del-nou-sistema-operatiu-ubuntu-910.html
CLASS:PUBLIC
END:VEVENT
END:VCALENDAR
