BEGIN:VCALENDAR
VERSION:2.0
CALSCALE:GREGORIAN
PRODID:-//Diputació de Barcelona//DibaCMS//EN
BEGIN:VEVENT
UID:4866
DTSTAMP:20260421T171249
DTSTART:20100127T210000
DTEND:20100127T000000
SUMMARY:Crida a la col·laboració associativa i ciutadana per ajudar la població d'Haití
LOCATION:
METHOD:PUBLISH
X-WR-CALNAME:caldesm@caldesdemontbui.cat
X-WR-TIMEZONE:Europe/Madrid
DESCRIPTION:
URI:https://www.caldesdemontbui.cat/actualitat/agenda/crida-a-la-collaboracio-associativa-i-ciutadana-per-ajudar-la-poblacio-dhaiti.html
CLASS:PUBLIC
END:VEVENT
END:VCALENDAR
