BEGIN:VCALENDAR
VERSION:2.0
CALSCALE:GREGORIAN
PRODID:-//Diputació de Barcelona//DibaCMS//EN
BEGIN:VEVENT
UID:4865
DTSTAMP:20260422T021911
DTSTART:20100125T190000
DTEND:20100125T000000
SUMMARY:El Club de Lectura us proposa: A la platja de Chesil
LOCATION:
METHOD:PUBLISH
X-WR-CALNAME:caldesm@caldesdemontbui.cat
X-WR-TIMEZONE:Europe/Madrid
DESCRIPTION:
URI:https://www.caldesdemontbui.cat/actualitat/agenda/el-club-de-lectura-us-proposa-a-la-platja-de-chesil.html
CLASS:PUBLIC
END:VEVENT
END:VCALENDAR
