BEGIN:VCALENDAR
VERSION:2.0
CALSCALE:GREGORIAN
PRODID:-//Diputació de Barcelona//DibaCMS//EN
BEGIN:VEVENT
UID:4864
DTSTAMP:20260421T230155
DTSTART:20100124T180000
DTEND:20100124T000000
SUMMARY:TACA'M: "És així, si us ho sembla"
LOCATION:
METHOD:PUBLISH
X-WR-CALNAME:caldesm@caldesdemontbui.cat
X-WR-TIMEZONE:Europe/Madrid
DESCRIPTION:
URI:https://www.caldesdemontbui.cat/actualitat/agenda/tacam-es-aixi-si-us-ho-sembla.html
CLASS:PUBLIC
END:VEVENT
END:VCALENDAR
