BEGIN:VCALENDAR
VERSION:2.0
CALSCALE:GREGORIAN
PRODID:-//Diputació de Barcelona//DibaCMS//EN
BEGIN:VEVENT
UID:4863
DTSTAMP:20260421T182231
DTSTART:20100124T120000
DTEND:20100124T000000
SUMMARY:Presentació del mòdul multisensorial "La mirada tàctil"
LOCATION:
METHOD:PUBLISH
X-WR-CALNAME:caldesm@caldesdemontbui.cat
X-WR-TIMEZONE:Europe/Madrid
DESCRIPTION:
URI:https://www.caldesdemontbui.cat/actualitat/agenda/presentacio-del-modul-multisensorial-la-mirada-tactil.html
CLASS:PUBLIC
END:VEVENT
END:VCALENDAR
