BEGIN:VCALENDAR
VERSION:2.0
CALSCALE:GREGORIAN
PRODID:-//Diputació de Barcelona//DibaCMS//EN
BEGIN:VEVENT
UID:4862
DTSTAMP:20260421T185207
DTSTART:20100124T000000
DTEND:20100128T000000
SUMMARY:Exposició: "Arranz - Bravo, recorregut per la passió. Pintura, escultures i gravats"
LOCATION:
METHOD:PUBLISH
X-WR-CALNAME:caldesm@caldesdemontbui.cat
X-WR-TIMEZONE:Europe/Madrid
DESCRIPTION:
URI:https://www.caldesdemontbui.cat/actualitat/agenda/exposicio-arranz---bravo-recorregut-per-la-passio-pintura-escultures-i-gravats.html
CLASS:PUBLIC
END:VEVENT
END:VCALENDAR
