BEGIN:VCALENDAR
VERSION:2.0
CALSCALE:GREGORIAN
PRODID:-//Diputació de Barcelona//DibaCMS//EN
BEGIN:VEVENT
UID:4861
DTSTAMP:20260421T182349
DTSTART:20100121T180000
DTEND:20100121T000000
SUMMARY:Xerrada i col·loqui: Què vols saber sobre les voluntat anticipades?
LOCATION:
METHOD:PUBLISH
X-WR-CALNAME:caldesm@caldesdemontbui.cat
X-WR-TIMEZONE:Europe/Madrid
DESCRIPTION:
URI:https://www.caldesdemontbui.cat/actualitat/agenda/xerrada-i-colloqui-que-vols-saber-sobre-les-voluntat-anticipades.html
CLASS:PUBLIC
END:VEVENT
END:VCALENDAR
