BEGIN:VCALENDAR
VERSION:2.0
CALSCALE:GREGORIAN
PRODID:-//Diputació de Barcelona//DibaCMS//EN
BEGIN:VEVENT
UID:4857
DTSTAMP:20260421T224300
DTSTART:20100116T200000
DTEND:20100116T000000
SUMMARY:Lliurament de premis del concurs de dibuix del pessebre vivent
LOCATION:
METHOD:PUBLISH
X-WR-CALNAME:caldesm@caldesdemontbui.cat
X-WR-TIMEZONE:Europe/Madrid
DESCRIPTION:
URI:https://www.caldesdemontbui.cat/actualitat/agenda/lliurament-de-premis-del-concurs-de-dibuix-del-pessebre-vivent.html
CLASS:PUBLIC
END:VEVENT
END:VCALENDAR
