BEGIN:VCALENDAR
VERSION:2.0
CALSCALE:GREGORIAN
PRODID:-//Diputació de Barcelona//DibaCMS//EN
BEGIN:VEVENT
UID:4856
DTSTAMP:20260421T171342
DTSTART:20100115T210000
DTEND:20100115T000000
SUMMARY:Assamblea Ordinària del Centre Excursionista Caldes
LOCATION:
METHOD:PUBLISH
X-WR-CALNAME:caldesm@caldesdemontbui.cat
X-WR-TIMEZONE:Europe/Madrid
DESCRIPTION:
URI:https://www.caldesdemontbui.cat/actualitat/agenda/assamblea-ordinaria-del-centre-excursionista-caldes.html
CLASS:PUBLIC
END:VEVENT
END:VCALENDAR
