BEGIN:VCALENDAR
VERSION:2.0
CALSCALE:GREGORIAN
PRODID:-//Diputació de Barcelona//DibaCMS//EN
BEGIN:VEVENT
UID:4855
DTSTAMP:20260422T001757
DTSTART:20100114T000000
DTEND:20100114T000000
SUMMARY:15a etapa del camí de Ronda des del Coll de Bordoi al Coll de Font de Cera
LOCATION:
METHOD:PUBLISH
X-WR-CALNAME:caldesm@caldesdemontbui.cat
X-WR-TIMEZONE:Europe/Madrid
DESCRIPTION:
URI:https://www.caldesdemontbui.cat/actualitat/agenda/15a-etapa-del-cami-de-ronda-des-del-coll-de-bordoi-al-coll-de-font-de-cera.html
CLASS:PUBLIC
END:VEVENT
END:VCALENDAR
