BEGIN:VCALENDAR
VERSION:2.0
CALSCALE:GREGORIAN
PRODID:-//Diputació de Barcelona//DibaCMS//EN
BEGIN:VEVENT
UID:4854
DTSTAMP:20260421T185248
DTSTART:20100105T203000
DTEND:20100105T000000
SUMMARY:Parlament i repartiment de regals als infants de Caldes a càrrec dels Reis de l'Orient
LOCATION:
METHOD:PUBLISH
X-WR-CALNAME:caldesm@caldesdemontbui.cat
X-WR-TIMEZONE:Europe/Madrid
DESCRIPTION:
URI:https://www.caldesdemontbui.cat/actualitat/agenda/parlament-i-repartiment-de-regals-als-infants-de-caldes-a-carrec-dels-reis-de-lorient.html
CLASS:PUBLIC
END:VEVENT
END:VCALENDAR
