BEGIN:VCALENDAR
VERSION:2.0
CALSCALE:GREGORIAN
PRODID:-//Diputació de Barcelona//DibaCMS//EN
BEGIN:VEVENT
UID:4853
DTSTAMP:20260421T224332
DTSTART:20100105T183000
DTEND:20100105T000000
SUMMARY:Calvalcada de SM els Reis de l'Orient
LOCATION:
METHOD:PUBLISH
X-WR-CALNAME:caldesm@caldesdemontbui.cat
X-WR-TIMEZONE:Europe/Madrid
DESCRIPTION:
URI:https://www.caldesdemontbui.cat/actualitat/agenda/calvalcada-de-sm-els-reis-de-lorient.html
CLASS:PUBLIC
END:VEVENT
END:VCALENDAR
