BEGIN:VCALENDAR
VERSION:2.0
CALSCALE:GREGORIAN
PRODID:-//Diputació de Barcelona//DibaCMS//EN
BEGIN:VEVENT
UID:4852
DTSTAMP:20260422T011219
DTSTART:20100105T180000
DTEND:20100105T000000
SUMMARY:Visita de S.M. els Reis de l'Orient a la residència Santa Susanna
LOCATION:
METHOD:PUBLISH
X-WR-CALNAME:caldesm@caldesdemontbui.cat
X-WR-TIMEZONE:Europe/Madrid
DESCRIPTION:
URI:https://www.caldesdemontbui.cat/actualitat/agenda/visita-de-sm-els-reis-de-lorient-a-la-residencia-santa-susanna.html
CLASS:PUBLIC
END:VEVENT
END:VCALENDAR
