BEGIN:VCALENDAR
VERSION:2.0
CALSCALE:GREGORIAN
PRODID:-//Diputació de Barcelona//DibaCMS//EN
BEGIN:VEVENT
UID:4844
DTSTAMP:20260421T220556
DTSTART:20091230T090000
DTEND:20091230T000000
SUMMARY:Caminada a Palau Solità i Plegamens per visitar els pessebres
LOCATION:
METHOD:PUBLISH
X-WR-CALNAME:caldesm@caldesdemontbui.cat
X-WR-TIMEZONE:Europe/Madrid
DESCRIPTION:
URI:https://www.caldesdemontbui.cat/actualitat/agenda/caminada-a-palau-solita-i-plegamens-per-visitar-els-pessebres.html
CLASS:PUBLIC
END:VEVENT
END:VCALENDAR
