BEGIN:VCALENDAR
VERSION:2.0
CALSCALE:GREGORIAN
PRODID:-//Diputació de Barcelona//DibaCMS//EN
BEGIN:VEVENT
UID:4843
DTSTAMP:20260421T233339
DTSTART:20091230T090000
DTEND:20091230T000000
SUMMARY:Caminada fins les piscines de Palau i visita als pessebres
LOCATION:
METHOD:PUBLISH
X-WR-CALNAME:caldesm@caldesdemontbui.cat
X-WR-TIMEZONE:Europe/Madrid
DESCRIPTION:
URI:https://www.caldesdemontbui.cat/actualitat/agenda/caminada-fins-les-piscines-de-palau-i-visita-als-pessebres.html
CLASS:PUBLIC
END:VEVENT
END:VCALENDAR
