BEGIN:VCALENDAR
VERSION:2.0
CALSCALE:GREGORIAN
PRODID:-//Diputació de Barcelona//DibaCMS//EN
BEGIN:VEVENT
UID:4836
DTSTAMP:20260421T153009
DTSTART:20091228T000000
DTEND:20100108T000000
SUMMARY:Exposició VIH sobre rodes
LOCATION:
METHOD:PUBLISH
X-WR-CALNAME:caldesm@caldesdemontbui.cat
X-WR-TIMEZONE:Europe/Madrid
DESCRIPTION:
URI:https://www.caldesdemontbui.cat/actualitat/agenda/exposicio-vih-sobre-rodes.html
CLASS:PUBLIC
END:VEVENT
END:VCALENDAR
