BEGIN:VCALENDAR
VERSION:2.0
CALSCALE:GREGORIAN
PRODID:-//Diputació de Barcelona//DibaCMS//EN
BEGIN:VEVENT
UID:4833
DTSTAMP:20260421T180742
DTSTART:20091227T180000
DTEND:20091227T000000
SUMMARY:Concert de Nadal a càrrec de les corals
LOCATION:
METHOD:PUBLISH
X-WR-CALNAME:caldesm@caldesdemontbui.cat
X-WR-TIMEZONE:Europe/Madrid
DESCRIPTION:
URI:https://www.caldesdemontbui.cat/actualitat/agenda/concert-de-nadal-a-carrec-de-les-corals.html
CLASS:PUBLIC
END:VEVENT
END:VCALENDAR
