BEGIN:VCALENDAR
VERSION:2.0
CALSCALE:GREGORIAN
PRODID:-//Diputació de Barcelona//DibaCMS//EN
BEGIN:VEVENT
UID:4830
DTSTAMP:20260421T202557
DTSTART:20091226T180000
DTEND:20091226T000000
SUMMARY:Pessebre vivent
LOCATION:
METHOD:PUBLISH
X-WR-CALNAME:caldesm@caldesdemontbui.cat
X-WR-TIMEZONE:Europe/Madrid
DESCRIPTION:
URI:https://www.caldesdemontbui.cat/actualitat/agenda/pessebre-vivent.html
CLASS:PUBLIC
END:VEVENT
END:VCALENDAR
