BEGIN:VCALENDAR
VERSION:2.0
CALSCALE:GREGORIAN
PRODID:-//Diputació de Barcelona//DibaCMS//EN
BEGIN:VEVENT
UID:4829
DTSTAMP:20260421T185029
DTSTART:20091226T000000
DTEND:20100116T000000
SUMMARY:Exposició de fotografies dels pessebres concursants
LOCATION:
METHOD:PUBLISH
X-WR-CALNAME:caldesm@caldesdemontbui.cat
X-WR-TIMEZONE:Europe/Madrid
DESCRIPTION:
URI:https://www.caldesdemontbui.cat/actualitat/agenda/exposicio-de-fotografies-dels-pessebres-concursants.html
CLASS:PUBLIC
END:VEVENT
END:VCALENDAR
