BEGIN:VCALENDAR
VERSION:2.0
CALSCALE:GREGORIAN
PRODID:-//Diputació de Barcelona//DibaCMS//EN
BEGIN:VEVENT
UID:4825
DTSTAMP:20260421T203226
DTSTART:20091223T103000
DTEND:20091223T000000
SUMMARY:Fira Barri
LOCATION:
METHOD:PUBLISH
X-WR-CALNAME:caldesm@caldesdemontbui.cat
X-WR-TIMEZONE:Europe/Madrid
DESCRIPTION:
URI:https://www.caldesdemontbui.cat/actualitat/agenda/fira-barri-23-12-2009.html
CLASS:PUBLIC
END:VEVENT
END:VCALENDAR
