BEGIN:VCALENDAR
VERSION:2.0
CALSCALE:GREGORIAN
PRODID:-//Diputació de Barcelona//DibaCMS//EN
BEGIN:VEVENT
UID:4823
DTSTAMP:20260422T011422
DTSTART:20091223T090000
DTEND:20091223T000000
SUMMARY:Caminada fins a Can Patxau per celebrar el Nadal
LOCATION:
METHOD:PUBLISH
X-WR-CALNAME:caldesm@caldesdemontbui.cat
X-WR-TIMEZONE:Europe/Madrid
DESCRIPTION:
URI:https://www.caldesdemontbui.cat/actualitat/agenda/caminada-fins-a-can-patxau-per-celebrar-el-nadal.html
CLASS:PUBLIC
END:VEVENT
END:VCALENDAR
