BEGIN:VCALENDAR
VERSION:2.0
CALSCALE:GREGORIAN
PRODID:-//Diputació de Barcelona//DibaCMS//EN
BEGIN:VEVENT
UID:4822
DTSTAMP:20260421T135114
DTSTART:20091223T000000
DTEND:20091223T000000
SUMMARY:Taller de Tabals, de Txapes i de Pro Evolution
LOCATION:
METHOD:PUBLISH
X-WR-CALNAME:caldesm@caldesdemontbui.cat
X-WR-TIMEZONE:Europe/Madrid
DESCRIPTION:
URI:https://www.caldesdemontbui.cat/actualitat/agenda/taller-de-tabals-de-txapes-i-de-pro-evolution.html
CLASS:PUBLIC
END:VEVENT
END:VCALENDAR
