BEGIN:VCALENDAR
VERSION:2.0
CALSCALE:GREGORIAN
PRODID:-//Diputació de Barcelona//DibaCMS//EN
BEGIN:VEVENT
UID:4821
DTSTAMP:20260421T185050
DTSTART:20091222T160000
DTEND:20091222T000000
SUMMARY:Cantada Nadalenca, CEIP El Calderí
LOCATION:
METHOD:PUBLISH
X-WR-CALNAME:caldesm@caldesdemontbui.cat
X-WR-TIMEZONE:Europe/Madrid
DESCRIPTION:
URI:https://www.caldesdemontbui.cat/actualitat/agenda/cantada-nadalenca-ceip-el-calderi.html
CLASS:PUBLIC
END:VEVENT
END:VCALENDAR
