BEGIN:VCALENDAR
VERSION:2.0
CALSCALE:GREGORIAN
PRODID:-//Diputació de Barcelona//DibaCMS//EN
BEGIN:VEVENT
UID:4820
DTSTAMP:20260422T011257
DTSTART:20091222T150000
DTEND:20091222T000000
SUMMARY:Concert "Sent els cent"
LOCATION:
METHOD:PUBLISH
X-WR-CALNAME:caldesm@caldesdemontbui.cat
X-WR-TIMEZONE:Europe/Madrid
DESCRIPTION:
URI:https://www.caldesdemontbui.cat/actualitat/agenda/concert-sent-els-cent.html
CLASS:PUBLIC
END:VEVENT
END:VCALENDAR
