BEGIN:VCALENDAR
VERSION:2.0
CALSCALE:GREGORIAN
PRODID:-//Diputació de Barcelona//DibaCMS//EN
BEGIN:VEVENT
UID:4819
DTSTAMP:20260422T011344
DTSTART:20091222T100000
DTEND:20091222T000000
SUMMARY:Cantada de nadales, CEIP El Farell
LOCATION:
METHOD:PUBLISH
X-WR-CALNAME:caldesm@caldesdemontbui.cat
X-WR-TIMEZONE:Europe/Madrid
DESCRIPTION:
URI:https://www.caldesdemontbui.cat/actualitat/agenda/cantada-de-nadales-ceip-el-farell.html
CLASS:PUBLIC
END:VEVENT
END:VCALENDAR
