BEGIN:VCALENDAR
VERSION:2.0
CALSCALE:GREGORIAN
PRODID:-//Diputació de Barcelona//DibaCMS//EN
BEGIN:VEVENT
UID:4818
DTSTAMP:20260421T210750
DTSTART:20091221T190000
DTEND:20091221T000000
SUMMARY:El Club de Lectura presenta una xerrada sobre la carta de Gabriel Janer Manila a Aurore-Lucile Dupin
LOCATION:
METHOD:PUBLISH
X-WR-CALNAME:caldesm@caldesdemontbui.cat
X-WR-TIMEZONE:Europe/Madrid
DESCRIPTION:
URI:https://www.caldesdemontbui.cat/actualitat/agenda/el-club-de-lectura-presenta-una-xerrada-sobre-la-carta-de-gabriel-janer-manila-a-aurore-lucile-dupin.html
CLASS:PUBLIC
END:VEVENT
END:VCALENDAR
