BEGIN:VCALENDAR
VERSION:2.0
CALSCALE:GREGORIAN
PRODID:-//Diputació de Barcelona//DibaCMS//EN
BEGIN:VEVENT
UID:4817
DTSTAMP:20260422T001611
DTSTART:20091220T183000
DTEND:20091220T000000
SUMMARY:Concert de Nadal, sessió lírica
LOCATION:
METHOD:PUBLISH
X-WR-CALNAME:caldesm@caldesdemontbui.cat
X-WR-TIMEZONE:Europe/Madrid
DESCRIPTION:
URI:https://www.caldesdemontbui.cat/actualitat/agenda/concert-de-nadal-sessio-lirica.html
CLASS:PUBLIC
END:VEVENT
END:VCALENDAR
