BEGIN:VCALENDAR
VERSION:2.0
CALSCALE:GREGORIAN
PRODID:-//Diputació de Barcelona//DibaCMS//EN
BEGIN:VEVENT
UID:4815
DTSTAMP:20260421T153303
DTSTART:20091220T000000
DTEND:20091220T000000
SUMMARY:Sortida matinal pels Cingles de Bertí
LOCATION:
METHOD:PUBLISH
X-WR-CALNAME:caldesm@caldesdemontbui.cat
X-WR-TIMEZONE:Europe/Madrid
DESCRIPTION:
URI:https://www.caldesdemontbui.cat/actualitat/agenda/sortida-matinal-pels-cingles-de-berti.html
CLASS:PUBLIC
END:VEVENT
END:VCALENDAR
