BEGIN:VCALENDAR
VERSION:2.0
CALSCALE:GREGORIAN
PRODID:-//Diputació de Barcelona//DibaCMS//EN
BEGIN:VEVENT
UID:4812
DTSTAMP:20260421T160749
DTSTART:20091219T120000
DTEND:20091219T000000
SUMMARY:Exhibició Bollywood
LOCATION:
METHOD:PUBLISH
X-WR-CALNAME:caldesm@caldesdemontbui.cat
X-WR-TIMEZONE:Europe/Madrid
DESCRIPTION:
URI:https://www.caldesdemontbui.cat/actualitat/agenda/exhibicio-bollywood.html
CLASS:PUBLIC
END:VEVENT
END:VCALENDAR
