BEGIN:VCALENDAR
VERSION:2.0
CALSCALE:GREGORIAN
PRODID:-//Diputació de Barcelona//DibaCMS//EN
BEGIN:VEVENT
UID:4810
DTSTAMP:20260421T161801
DTSTART:20091219T000000
DTEND:20091220T000000
SUMMARY:Torneig de futbol sala jove al Bugarai
LOCATION:
METHOD:PUBLISH
X-WR-CALNAME:caldesm@caldesdemontbui.cat
X-WR-TIMEZONE:Europe/Madrid
DESCRIPTION:
URI:https://www.caldesdemontbui.cat/actualitat/agenda/torneig-de-futbol-sala-jove-al-bugarai.html
CLASS:PUBLIC
END:VEVENT
END:VCALENDAR
