BEGIN:VCALENDAR
VERSION:2.0
CALSCALE:GREGORIAN
PRODID:-//Diputació de Barcelona//DibaCMS//EN
BEGIN:VEVENT
UID:4808
DTSTAMP:20260422T001539
DTSTART:20091219T000000
DTEND:20100116T000000
SUMMARY:Exposició de dibuixos presentats sobre el pessebre vivent
LOCATION:
METHOD:PUBLISH
X-WR-CALNAME:caldesm@caldesdemontbui.cat
X-WR-TIMEZONE:Europe/Madrid
DESCRIPTION:
URI:https://www.caldesdemontbui.cat/actualitat/agenda/exposicio-de-dibuixos-presentats-sobre-el-pessebre-vivent.html
CLASS:PUBLIC
END:VEVENT
END:VCALENDAR
